BEGIN:VCALENDAR
VERSION:2.0
PRODID:-//ChurchDev//Events//EN
CALSCALE:GREGORIAN
METHOD:PUBLISH
BEGIN:VEVENT
UID:3824-20240309@www.stpaulsumcwichita.org
SUMMARY:Church Work Day
DTSTART:20240309T150000Z
DTEND:20240309T160000Z
DESCRIPTION:https://www.stpaulsumcwichita.org/events/church-work-day/
URL:https://www.stpaulsumcwichita.org/events/church-work-day/
DTSTAMP:20260419T184809Z
END:VEVENT
END:VCALENDAR
